Workbook

Sheet DATA ENTRY
B1: FALCON SAILING CLUB | F1: Date: | J1: Start minutes included: | N1: 3
B2: RACE RESULTS | F2: Make Entries only in orange cells
J3: For DNS, do not enter any data
C4: Conditions: | J4: leave corrected time of 2000 or 200
D5: Enter seconds as if decimal: | H5: Example: 20 min 35 seconds enter 20.35
B6: Race One: | C6: Make Entries only in orange cells | E6: Finish Time | F6: Elapsed Time | G6: Elapsed Minutes | H6: Elapsed Seconds | J6: Handicap | K6: Dinghy Corr time | L6: Dinghy position | N6: Handicap | O6: KB & Cat Corr Time | P6: KB & Cat Position
A7: # | B7: Skipper | C7: Boat
A8: 1 | F8: =E8-$N$1 -> -3 | G8: =IF(E8>0,INT(E8)-$N$1,0) -> 0 | H8: =IF(E8>0,(F8-G8)*100,0) -> 0 | J8: =VLOOKUP(C8,Hcaps!$A$2:$D$63,4,FALSE) -> #N/A | K8: =IF(G8=0,20000,((G8*60)+H8)*1000/J8) -> 20000 | L8: =RANK(K8,$K$8:$K$22,1) -> 1 | N8: =VLOOKUP(C8,Hcaps!$A$2:$D$31,4,FALSE) -> #N/A | O8: =IF(E8=0,200,((G8*60)+H8)/N8) -> 200 | P8: =RANK(O8,$O$8:$O$22,1) -> 1
A9: 2 | F9: =E9-$N$1 -> -3 | G9: =IF(E9>0,INT(E9)-$N$1,0) -> 0 | H9: =IF(E9>0,(F9-G9)*100,0) -> 0 | J9: =VLOOKUP(C9,Hcaps!$A$2:$D$63,4,FALSE) -> #N/A | K9: =IF(G9=0,20000,((G9*60)+H9)*1000/J9) -> 20000 | L9: =RANK(K9,$K$8:$K$22,1) -> 1 | N9: =VLOOKUP(C9,Hcaps!$A$2:$D$31,4,FALSE) -> #N/A | O9: =IF(E9=0,200,((G9*60)+H9)/N9) -> 200 | P9: =RANK(O9,$O$8:$O$22,1) -> 1
A10: 3 | F10: =E10-$N$1 -> -3 | G10: =IF(E10>0,INT(E10)-$N$1,0) -> 0 | H10: =IF(E10>0,(F10-G10)*100,0) -> 0 | J10: =VLOOKUP(C10,Hcaps!$A$2:$D$63,4,FALSE) -> #N/A | K10: =IF(G10=0,20000,((G10*60)+H10)*1000/J10) -> 20000 | L10: =RANK(K10,$K$8:$K$22,1) -> 1 | N10: =VLOOKUP(C10,Hcaps!$A$2:$D$31,4,FALSE) -> #N/A | O10: =IF(E10=0,200,((G10*60)+H10)/N10) -> 200 | P10: =RANK(O10,$O$8:$O$22,1) -> 1
A11: 4 | F11: =E11-$N$1 -> -3 | G11: =IF(E11>0,INT(E11)-$N$1,0) -> 0 | H11: =IF(E11>0,(F11-G11)*100,0) -> 0 | J11: =VLOOKUP(C11,Hcaps!$A$2:$D$63,4,FALSE) -> #N/A | K11: =IF(G11=0,20000,((G11*60)+H11)*1000/J11) -> 20000 | L11: =RANK(K11,$K$8:$K$22,1) -> 1 | N11: =VLOOKUP(C11,Hcaps!$A$2:$D$31,4,FALSE) -> #N/A | O11: =IF(E11=0,200,((G11*60)+H11)/N11) -> 200 | P11: =RANK(O11,$O$8:$O$22,1) -> 1
A12: 5 | F12: =E12-$N$1 -> -3 | G12: =IF(E12>0,INT(E12)-$N$1,0) -> 0 | H12: =IF(E12>0,(F12-G12)*100,0) -> 0 | J12: =VLOOKUP(C12,Hcaps!$A$2:$D$63,4,FALSE) -> #N/A | K12: =IF(G12=0,20000,((G12*60)+H12)*1000/J12) -> 20000 | L12: =RANK(K12,$K$8:$K$22,1) -> 1 | N12: =VLOOKUP(C12,Hcaps!$A$2:$D$31,4,FALSE) -> #N/A | O12: =IF(E12=0,200,((G12*60)+H12)/N12) -> 200 | P12: =RANK(O12,$O$8:$O$22,1) -> 1
A13: 6 | F13: =E13-$N$1 -> -3 | G13: =IF(E13>0,INT(E13)-$N$1,0) -> 0 | H13: =IF(E13>0,(F13-G13)*100,0) -> 0 | J13: =VLOOKUP(C13,Hcaps!$A$2:$D$63,4,FALSE) -> #N/A | K13: =IF(G13=0,20000,((G13*60)+H13)*1000/J13) -> 20000 | L13: =RANK(K13,$K$8:$K$22,1) -> 1 | N13: =VLOOKUP(C13,Hcaps!$A$2:$D$31,4,FALSE) -> #N/A | O13: =IF(E13=0,200,((G13*60)+H13)/N13) -> 200 | P13: =RANK(O13,$O$8:$O$22,1) -> 1
A14: 7 | F14: =E14-$N$1 -> -3 | G14: =IF(E14>0,INT(E14)-$N$1,0) -> 0 | H14: =IF(E14>0,(F14-G14)*100,0) -> 0 | J14: =VLOOKUP(C14,Hcaps!$A$2:$D$63,4,FALSE) -> #N/A | K14: =IF(G14=0,20000,((G14*60)+H14)*1000/J14) -> 20000 | L14: =RANK(K14,$K$8:$K$22,1) -> 1 | N14: =VLOOKUP(C14,Hcaps!$A$2:$D$31,4,FALSE) -> #N/A | O14: =IF(E14=0,200,((G14*60)+H14)/N14) -> 200 | P14: =RANK(O14,$O$8:$O$22,1) -> 1
A15: 8 | F15: =E15-$N$1 -> -3 | G15: =IF(E15>0,INT(E15)-$N$1,0) -> 0 | H15: =IF(E15>0,(F15-G15)*100,0) -> 0 | J15: =VLOOKUP(C15,Hcaps!$A$2:$D$63,4,FALSE) -> #N/A | K15: =IF(G15=0,20000,((G15*60)+H15)*1000/J15) -> 20000 | L15: =RANK(K15,$K$8:$K$22,1) -> 1 | N15: =VLOOKUP(C15,Hcaps!$A$2:$D$31,4,FALSE) -> #N/A | O15: =IF(E15=0,200,((G15*60)+H15)/N15) -> 200 | P15: =RANK(O15,$O$8:$O$22,1) -> 1
A16: 9 | F16: =E16-$N$1 -> -3 | G16: =IF(E16>0,INT(E16)-$N$1,0) -> 0 | H16: =IF(E16>0,(F16-G16)*100,0) -> 0 | J16: =VLOOKUP(C16,Hcaps!$A$2:$D$63,4,FALSE) -> #N/A | K16: =IF(G16=0,20000,((G16*60)+H16)*1000/J16) -> 20000 | L16: =RANK(K16,$K$8:$K$22,1) -> 1 | N16: =VLOOKUP(C16,Hcaps!$A$2:$D$31,4,FALSE) -> #N/A | O16: =IF(E16=0,200,((G16*60)+H16)/N16) -> 200 | P16: =RANK(O16,$O$8:$O$22,1) -> 1
A17: 10 | F17: =E17-$N$1 -> -3 | G17: =IF(E17>0,INT(E17)-$N$1,0) -> 0 | H17: =IF(E17>0,(F17-G17)*100,0) -> 0 | J17: =VLOOKUP(C17,Hcaps!$A$2:$D$63,4,FALSE) -> #N/A | K17: =IF(G17=0,20000,((G17*60)+H17)*1000/J17) -> 20000 | L17: =RANK(K17,$K$8:$K$22,1) -> 1 | N17: =VLOOKUP(C17,Hcaps!$A$2:$D$31,4,FALSE) -> #N/A | O17: =IF(E17=0,200,((G17*60)+H17)/N17) -> 200 | P17: =RANK(O17,$O$8:$O$22,1) -> 1
A18: 11 | F18: =E18-$N$1 -> -3 | G18: =IF(E18>0,INT(E18)-$N$1,0) -> 0 | H18: =IF(E18>0,(F18-G18)*100,0) -> 0 | J18: =VLOOKUP(C18,Hcaps!$A$2:$D$63,4,FALSE) -> #N/A | K18: =IF(G18=0,20000,((G18*60)+H18)*1000/J18) -> 20000 | L18: =RANK(K18,$K$8:$K$22,1) -> 1 | N18: =VLOOKUP(C18,Hcaps!$A$2:$D$31,4,FALSE) -> #N/A | O18: =IF(E18=0,200,((G18*60)+H18)/N18) -> 200 | P18: =RANK(O18,$O$8:$O$22,1) -> 1
A19: 12 | F19: =E19-$N$1 -> -3 | G19: =IF(E19>0,INT(E19)-$N$1,0) -> 0 | H19: =IF(E19>0,(F19-G19)*100,0) -> 0 | J19: =VLOOKUP(C19,Hcaps!$A$2:$D$63,4,FALSE) -> #N/A | K19: =IF(G19=0,20000,((G19*60)+H19)*1000/J19) -> 20000 | L19: =RANK(K19,$K$8:$K$22,1) -> 1 | N19: =VLOOKUP(C19,Hcaps!$A$2:$D$31,4,FALSE) -> #N/A | O19: =IF(E19=0,200,((G19*60)+H19)/N19) -> 200 | P19: =RANK(O19,$O$8:$O$22,1) -> 1
... A22: 15 | F22: =E22-$N$1 -> -3 | G22: =IF(E22>0,INT(E22)-$N$1,0) -> 0 | H22: =IF(E22>0,(F22-G22)*100,0) -> 0 | J22: =VLOOKUP(C22,Hcaps!$A$2:$D$63,4,FALSE) -> #N/A | K22: =IF(G22=0,20000,((G22*60)+H22)*1000/J22) -> 20000 | L22: =RANK(K22,$K$8:$K$22,1) -> 1 | N22: =VLOOKUP(C22,Hcaps!$A$2:$D$31,4,FALSE) -> #N/A | O22: =IF(E22=0,200,((G22*60)+H22)/N22) -> 200 | P22: =RANK(O22,$O$8:$O$22,1) -> 1
B24: Race Two: | C24: Make Entries only in colour cells | E24: Finish Time | F24: Elapsed Time | G24: Elapsed Minutes | H24: Elapsed Seconds | J24: Handicap | K24: Dinghy Corr time | L24: Dinghy position | N24: Handicap | O24: KB & Cat Corr Time | P24: KB & Cat Position
A25: # | B25: Skipper | C25: Boat
A26: 1 | F26: =E26-$N$1 -> -3 | G26: =IF(E26>0,INT(E26)-$N$1,0) -> 0 | H26: =IF(E26>0,(F26-G26)*100,0) -> 0 | J26: =VLOOKUP(C26,Hcaps!$A$2:$D$63,4,FALSE) -> #N/A | K26: =IF(G26=0,20000,((G26*60)+H26)*1000/J26) -> 20000 | L26: =RANK(K26,$K$26:$K$40,1) -> 1 | N26: =VLOOKUP(C26,Hcaps!$A$2:$D$31,4,FALSE) -> #N/A | O26: =IF(E26=0,200,((G26*60)+H26)/N26) -> 200 | P26: =RANK(O26,$O$26:$O$40,1) -> 1
A27: 2 | F27: =E27-$N$1 -> -3 | G27: =IF(E27>0,INT(E27)-$N$1,0) -> 0 | H27: =IF(E27>0,(F27-G27)*100,0) -> 0 | J27: =VLOOKUP(C27,Hcaps!$A$2:$D$63,4,FALSE) -> #N/A | K27: =IF(G27=0,20000,((G27*60)+H27)*1000/J27) -> 20000 | L27: =RANK(K27,$K$26:$K$40,1) -> 1 | N27: =VLOOKUP(C27,Hcaps!$A$2:$D$31,4,FALSE) -> #N/A | O27: =IF(E27=0,200,((G27*60)+H27)/N27) -> 200 | P27: =RANK(O27,$O$26:$O$40,1) -> 1
A28: 3 | F28: =E28-$N$1 -> -3 | G28: =IF(E28>0,INT(E28)-$N$1,0) -> 0 | H28: =IF(E28>0,(F28-G28)*100,0) -> 0 | J28: =VLOOKUP(C28,Hcaps!$A$2:$D$63,4,FALSE) -> #N/A | K28: =IF(G28=0,20000,((G28*60)+H28)*1000/J28) -> 20000 | L28: =RANK(K28,$K$26:$K$40,1) -> 1 | N28: =VLOOKUP(C28,Hcaps!$A$2:$D$31,4,FALSE) -> #N/A | O28: =IF(E28=0,200,((G28*60)+H28)/N28) -> 200 | P28: =RANK(O28,$O$26:$O$40,1) -> 1
A29: 4 | F29: =E29-$N$1 -> -3 | G29: =IF(E29>0,INT(E29)-$N$1,0) -> 0 | H29: =IF(E29>0,(F29-G29)*100,0) -> 0 | J29: =VLOOKUP(C29,Hcaps!$A$2:$D$63,4,FALSE) -> #N/A | K29: =IF(G29=0,20000,((G29*60)+H29)*1000/J29) -> 20000 | L29: =RANK(K29,$K$26:$K$40,1) -> 1 | N29: =VLOOKUP(C29,Hcaps!$A$2:$D$31,4,FALSE) -> #N/A | O29: =IF(E29=0,200,((G29*60)+H29)/N29) -> 200 | P29: =RANK(O29,$O$26:$O$40,1) -> 1
A30: 5 | F30: =E30-$N$1 -> -3 | G30: =IF(E30>0,INT(E30)-$N$1,0) -> 0 | H30: =IF(E30>0,(F30-G30)*100,0) -> 0 | J30: =VLOOKUP(C30,Hcaps!$A$2:$D$63,4,FALSE) -> #N/A | K30: =IF(G30=0,20000,((G30*60)+H30)*1000/J30) -> 20000 | L30: =RANK(K30,$K$26:$K$40,1) -> 1 | N30: =VLOOKUP(C30,Hcaps!$A$2:$D$31,4,FALSE) -> #N/A | O30: =IF(E30=0,200,((G30*60)+H30)/N30) -> 200 | P30: =RANK(O30,$O$26:$O$40,1) -> 1
A31: 6 | F31: =E31-$N$1 -> -3 | G31: =IF(E31>0,INT(E31)-$N$1,0) -> 0 | H31: =IF(E31>0,(F31-G31)*100,0) -> 0 | J31: =VLOOKUP(C31,Hcaps!$A$2:$D$63,4,FALSE) -> #N/A | K31: =IF(G31=0,20000,((G31*60)+H31)*1000/J31) -> 20000 | L31: =RANK(K31,$K$26:$K$40,1) -> 1 | N31: =VLOOKUP(C31,Hcaps!$A$2:$D$31,4,FALSE) -> #N/A | O31: =IF(E31=0,200,((G31*60)+H31)/N31) -> 200 | P31: =RANK(O31,$O$26:$O$40,1) -> 1
A32: 7 | F32: =E32-$N$1 -> -3 | G32: =IF(E32>0,INT(E32)-$N$1,0) -> 0 | H32: =IF(E32>0,(F32-G32)*100,0) -> 0 | J32: =VLOOKUP(C32,Hcaps!$A$2:$D$63,4,FALSE) -> #N/A | K32: =IF(G32=0,20000,((G32*60)+H32)*1000/J32) -> 20000 | L32: =RANK(K32,$K$26:$K$40,1) -> 1 | N32: =VLOOKUP(C32,Hcaps!$A$2:$D$31,4,FALSE) -> #N/A | O32: =IF(E32=0,200,((G32*60)+H32)/N32) -> 200 | P32: =RANK(O32,$O$26:$O$40,1) -> 1
A33: 8 | F33: =E33-$N$1 -> -3 | G33: =IF(E33>0,INT(E33)-$N$1,0) -> 0 | H33: =IF(E33>0,(F33-G33)*100,0) -> 0 | J33: =VLOOKUP(C33,Hcaps!$A$2:$D$63,4,FALSE) -> #N/A | K33: =IF(G33=0,20000,((G33*60)+H33)*1000/J33) -> 20000 | L33: =RANK(K33,$K$26:$K$40,1) -> 1 | N33: =VLOOKUP(C33,Hcaps!$A$2:$D$31,4,FALSE) -> #N/A | O33: =IF(E33=0,200,((G33*60)+H33)/N33) -> 200 | P33: =RANK(O33,$O$26:$O$40,1) -> 1
A34: 9 | F34: =E34-$N$1 -> -3 | G34: =IF(E34>0,INT(E34)-$N$1,0) -> 0 | H34: =IF(E34>0,(F34-G34)*100,0) -> 0 | J34: =VLOOKUP(C34,Hcaps!$A$2:$D$63,4,FALSE) -> #N/A | K34: =IF(G34=0,20000,((G34*60)+H34)*1000/J34) -> 20000 | L34: =RANK(K34,$K$26:$K$40,1) -> 1 | N34: =VLOOKUP(C34,Hcaps!$A$2:$D$31,4,FALSE) -> #N/A | O34: =IF(E34=0,200,((G34*60)+H34)/N34) -> 200 | P34: =RANK(O34,$O$26:$O$40,1) -> 1
A35: 10 | F35: =E35-$N$1 -> -3 | G35: =IF(E35>0,INT(E35)-$N$1,0) -> 0 | H35: =IF(E35>0,(F35-G35)*100,0) -> 0 | J35: =VLOOKUP(C35,Hcaps!$A$2:$D$63,4,FALSE) -> #N/A | K35: =IF(G35=0,20000,((G35*60)+H35)*1000/J35) -> 20000 | L35: =RANK(K35,$K$26:$K$40,1) -> 1 | N35: =VLOOKUP(C35,Hcaps!$A$2:$D$31,4,FALSE) -> #N/A | O35: =IF(E35=0,200,((G35*60)+H35)/N35) -> 200 | P35: =RANK(O35,$O$26:$O$40,1) -> 1
A36: 11 | F36: =E36-$N$1 -> -3 | G36: =IF(E36>0,INT(E36)-$N$1,0) -> 0 | H36: =IF(E36>0,(F36-G36)*100,0) -> 0 | J36: =VLOOKUP(C36,Hcaps!$A$2:$D$63,4,FALSE) -> #N/A | K36: =IF(G36=0,20000,((G36*60)+H36)*1000/J36) -> 20000 | L36: =RANK(K36,$K$26:$K$40,1) -> 1 | N36: =VLOOKUP(C36,Hcaps!$A$2:$D$31,4,FALSE) -> #N/A | O36: =IF(E36=0,200,((G36*60)+H36)/N36) -> 200 | P36: =RANK(O36,$O$26:$O$40,1) -> 1
A37: 12 | F37: =E37-$N$1 -> -3 | G37: =IF(E37>0,INT(E37)-$N$1,0) -> 0 | H37: =IF(E37>0,(F37-G37)*100,0) -> 0 | J37: =VLOOKUP(C37,Hcaps!$A$2:$D$63,4,FALSE) -> #N/A | K37: =IF(G37=0,20000,((G37*60)+H37)*1000/J37) -> 20000 | L37: =RANK(K37,$K$26:$K$40,1) -> 1 | N37: =VLOOKUP(C37,Hcaps!$A$2:$D$31,4,FALSE) -> #N/A | O37: =IF(E37=0,200,((G37*60)+H37)/N37) -> 200 | P37: =RANK(O37,$O$26:$O$40,1) -> 1
... A40: 15 | F40: =E40-$N$1 -> -3 | G40: =IF(E40>0,INT(E40)-$N$1,0) -> 0 | H40: =IF(E40>0,(F40-G40)*100,0) -> 0 | J40: =VLOOKUP(C40,Hcaps!$A$2:$D$63,4,FALSE) -> #N/A | K40: =IF(G40=0,20000,((G40*60)+H40)*1000/J40) -> 20000 | L40: =RANK(K40,$K$26:$K$40,1) -> 1 | N40: =VLOOKUP(C40,Hcaps!$A$2:$D$31,4,FALSE) -> #N/A | O40: =IF(E40=0,200,((G40*60)+H40)/N40) -> 200 | P40: =RANK(O40,$O$26:$O$40,1) -> 1
B42: Race Three | C42: Make Entries only in colour cells | E42: Finish Time | F42: Elapsed Time | G42: Elapsed Minutes | H42: Elapsed Seconds | J42: Handicap | K42: Dinghy Corr time | L42: Dinghy position | N42: Handicap | O42: KB & Cat Corr Time | P42: KB & Cat Position
A43: # | B43: Skipper | C43: Boat
A44: 1 | F44: =E44-$N$1 -> -3 | G44: =IF(E44>0,INT(E44)-$N$1,0) -> 0 | H44: =IF(E44>0,(F44-G44)*100,0) -> 0 | J44: =VLOOKUP(C44,Hcaps!$A$2:$D$63,4,FALSE) -> #N/A | K44: =IF(G44=0,20000,((G44*60)+H44)*1000/J44) -> 20000 | L44: =RANK(K44,$K$44:$K$58,1) -> 1 | N44: =VLOOKUP(C44,Hcaps!$A$2:$D$31,4,FALSE) -> #N/A | O44: =IF(E44=0,200,((G44*60)+H44)/N44) -> 200 | P44: =RANK(O44,$O$44:$O$58,1) -> 1
A45: 2 | F45: =E45-$N$1 -> -3 | G45: =IF(E45>0,INT(E45)-$N$1,0) -> 0 | H45: =IF(E45>0,(F45-G45)*100,0) -> 0 | J45: =VLOOKUP(C45,Hcaps!$A$2:$D$63,4,FALSE) -> #N/A | K45: =IF(G45=0,20000,((G45*60)+H45)*1000/J45) -> 20000 | L45: =RANK(K45,$K$44:$K$58,1) -> 1 | N45: =VLOOKUP(C45,Hcaps!$A$2:$D$31,4,FALSE) -> #N/A | O45: =IF(E45=0,200,((G45*60)+H45)/N45) -> 200 | P45: =RANK(O45,$O$44:$O$58,1) -> 1
A46: 3 | F46: =E46-$N$1 -> -3 | G46: =IF(E46>0,INT(E46)-$N$1,0) -> 0 | H46: =IF(E46>0,(F46-G46)*100,0) -> 0 | J46: =VLOOKUP(C46,Hcaps!$A$2:$D$63,4,FALSE) -> #N/A | K46: =IF(G46=0,20000,((G46*60)+H46)*1000/J46) -> 20000 | L46: =RANK(K46,$K$44:$K$58,1) -> 1 | N46: =VLOOKUP(C46,Hcaps!$A$2:$D$31,4,FALSE) -> #N/A | O46: =IF(E46=0,200,((G46*60)+H46)/N46) -> 200 | P46: =RANK(O46,$O$44:$O$58,1) -> 1
A47: 4 | F47: =E47-$N$1 -> -3 | G47: =IF(E47>0,INT(E47)-$N$1,0) -> 0 | H47: =IF(E47>0,(F47-G47)*100,0) -> 0 | J47: =VLOOKUP(C47,Hcaps!$A$2:$D$63,4,FALSE) -> #N/A | K47: =IF(G47=0,20000,((G47*60)+H47)*1000/J47) -> 20000 | L47: =RANK(K47,$K$44:$K$58,1) -> 1 | N47: =VLOOKUP(C47,Hcaps!$A$2:$D$31,4,FALSE) -> #N/A | O47: =IF(E47=0,200,((G47*60)+H47)/N47) -> 200 | P47: =RANK(O47,$O$44:$O$58,1) -> 1
A48: 5 | F48: =E48-$N$1 -> -3 | G48: =IF(E48>0,INT(E48)-$N$1,0) -> 0 | H48: =IF(E48>0,(F48-G48)*100,0) -> 0 | J48: =VLOOKUP(C48,Hcaps!$A$2:$D$63,4,FALSE) -> #N/A | K48: =IF(G48=0,20000,((G48*60)+H48)*1000/J48) -> 20000 | L48: =RANK(K48,$K$44:$K$58,1) -> 1 | N48: =VLOOKUP(C48,Hcaps!$A$2:$D$31,4,FALSE) -> #N/A | O48: =IF(E48=0,200,((G48*60)+H48)/N48) -> 200 | P48: =RANK(O48,$O$44:$O$58,1) -> 1
A49: 6 | F49: =E49-$N$1 -> -3 | G49: =IF(E49>0,INT(E49)-$N$1,0) -> 0 | H49: =IF(E49>0,(F49-G49)*100,0) -> 0 | J49: =VLOOKUP(C49,Hcaps!$A$2:$D$63,4,FALSE) -> #N/A | K49: =IF(G49=0,20000,((G49*60)+H49)*1000/J49) -> 20000 | L49: =RANK(K49,$K$44:$K$58,1) -> 1 | N49: =VLOOKUP(C49,Hcaps!$A$2:$D$31,4,FALSE) -> #N/A | O49: =IF(E49=0,200,((G49*60)+H49)/N49) -> 200 | P49: =RANK(O49,$O$44:$O$58,1) -> 1
A50: 7 | F50: =E50-$N$1 -> -3 | G50: =IF(E50>0,INT(E50)-$N$1,0) -> 0 | H50: =IF(E50>0,(F50-G50)*100,0) -> 0 | J50: =VLOOKUP(C50,Hcaps!$A$2:$D$63,4,FALSE) -> #N/A | K50: =IF(G50=0,20000,((G50*60)+H50)*1000/J50) -> 20000 | L50: =RANK(K50,$K$44:$K$58,1) -> 1 | N50: =VLOOKUP(C50,Hcaps!$A$2:$D$31,4,FALSE) -> #N/A | O50: =IF(E50=0,200,((G50*60)+H50)/N50) -> 200 | P50: =RANK(O50,$O$44:$O$58,1) -> 1
A51: 8 | F51: =E51-$N$1 -> -3 | G51: =IF(E51>0,INT(E51)-$N$1,0) -> 0 | H51: =IF(E51>0,(F51-G51)*100,0) -> 0 | J51: =VLOOKUP(C51,Hcaps!$A$2:$D$63,4,FALSE) -> #N/A | K51: =IF(G51=0,20000,((G51*60)+H51)*1000/J51) -> 20000 | L51: =RANK(K51,$K$44:$K$58,1) -> 1 | N51: =VLOOKUP(C51,Hcaps!$A$2:$D$31,4,FALSE) -> #N/A | O51: =IF(E51=0,200,((G51*60)+H51)/N51) -> 200 | P51: =RANK(O51,$O$44:$O$58,1) -> 1
A52: 9 | F52: =E52-$N$1 -> -3 | G52: =IF(E52>0,INT(E52)-$N$1,0) -> 0 | H52: =IF(E52>0,(F52-G52)*100,0) -> 0 | J52: =VLOOKUP(C52,Hcaps!$A$2:$D$63,4,FALSE) -> #N/A | K52: =IF(G52=0,20000,((G52*60)+H52)*1000/J52) -> 20000 | L52: =RANK(K52,$K$44:$K$58,1) -> 1 | N52: =VLOOKUP(C52,Hcaps!$A$2:$D$31,4,FALSE) -> #N/A | O52: =IF(E52=0,200,((G52*60)+H52)/N52) -> 200 | P52: =RANK(O52,$O$44:$O$58,1) -> 1
A53: 10 | F53: =E53-$N$1 -> -3 | G53: =IF(E53>0,INT(E53)-$N$1,0) -> 0 | H53: =IF(E53>0,(F53-G53)*100,0) -> 0 | J53: =VLOOKUP(C53,Hcaps!$A$2:$D$63,4,FALSE) -> #N/A | K53: =IF(G53=0,20000,((G53*60)+H53)*1000/J53) -> 20000 | L53: =RANK(K53,$K$44:$K$58,1) -> 1 | N53: =VLOOKUP(C53,Hcaps!$A$2:$D$31,4,FALSE) -> #N/A | O53: =IF(E53=0,200,((G53*60)+H53)/N53) -> 200 | P53: =RANK(O53,$O$44:$O$58,1) -> 1
A54: 11 | F54: =E54-$N$1 -> -3 | G54: =IF(E54>0,INT(E54)-$N$1,0) -> 0 | H54: =IF(E54>0,(F54-G54)*100,0) -> 0 | J54: =VLOOKUP(C54,Hcaps!$A$2:$D$63,4,FALSE) -> #N/A | K54: =IF(G54=0,20000,((G54*60)+H54)*1000/J54) -> 20000 | L54: =RANK(K54,$K$44:$K$58,1) -> 1 | N54: =VLOOKUP(C54,Hcaps!$A$2:$D$31,4,FALSE) -> #N/A | O54: =IF(E54=0,200,((G54*60)+H54)/N54) -> 200 | P54: =RANK(O54,$O$44:$O$58,1) -> 1
A55: 12 | F55: =E55-$N$1 -> -3 | G55: =IF(E55>0,INT(E55)-$N$1,0) -> 0 | H55: =IF(E55>0,(F55-G55)*100,0) -> 0 | J55: =VLOOKUP(C55,Hcaps!$A$2:$D$63,4,FALSE) -> #N/A | K55: =IF(G55=0,20000,((G55*60)+H55)*1000/J55) -> 20000 | L55: =RANK(K55,$K$44:$K$58,1) -> 1 | N55: =VLOOKUP(C55,Hcaps!$A$2:$D$31,4,FALSE) -> #N/A | O55: =IF(E55=0,200,((G55*60)+H55)/N55) -> 200 | P55: =RANK(O55,$O$44:$O$58,1) -> 1
... A58: 15 | F58: =E58-$N$1 -> -3 | G58: =IF(E58>0,INT(E58)-$N$1,0) -> 0 | H58: =IF(E58>0,(F58-G58)*100,0) -> 0 | J58: =VLOOKUP(C58,Hcaps!$A$2:$D$63,4,FALSE) -> #N/A | K58: =IF(G58=0,20000,((G58*60)+H58)*1000/J58) -> 20000 | L58: =RANK(K58,$K$44:$K$58,1) -> 1 | N58: =VLOOKUP(C58,Hcaps!$A$2:$D$31,4,FALSE) -> #N/A | O58: =IF(E58=0,200,((G58*60)+H58)/N58) -> 200 | P58: =RANK(O58,$O$44:$O$58,1) -> 1
B60: Race Four | C60: Make Entries only in colour cells | E60: Finish Time | F60: Elapsed Time | G60: Elapsed Minutes | H60: Elapsed Seconds | J60: Handicap | K60: Dinghy Corr time | L60: Dinghy position | N60: Handicap | O60: KB & Cat Corr Time | P60: KB & Cat Position
A61: # | B61: Skipper | C61: Boat
A62: 1 | F62: =E62-$N$1 -> -3 | G62: =IF(E62>0,INT(E62)-$N$1,0) -> 0 | H62: =IF(E62>0,(F62-G62)*100,0) -> 0 | J62: =VLOOKUP(C62,Hcaps!$A$2:$D$63,4,FALSE) -> #N/A | K62: =IF(G62=0,20000,((G62*60)+H62)*1000/J62) -> 20000 | L62: =RANK(K62,$K$62:$K$76,1) -> 1 | N62: =VLOOKUP(C62,Hcaps!$A$2:$D$31,4,FALSE) -> #N/A | O62: =IF(E62=0,200,((G62*60)+H62)/N62) -> 200 | P62: =RANK(O62,$O$62:$O$76,1) -> 1
A63: 2 | F63: =E63-$N$1 -> -3 | G63: =IF(E63>0,INT(E63)-$N$1,0) -> 0 | H63: =IF(E63>0,(F63-G63)*100,0) -> 0 | J63: =VLOOKUP(C63,Hcaps!$A$2:$D$63,4,FALSE) -> #N/A | K63: =IF(G63=0,20000,((G63*60)+H63)*1000/J63) -> 20000 | L63: =RANK(K63,$K$62:$K$76,1) -> 1 | N63: =VLOOKUP(C63,Hcaps!$A$2:$D$31,4,FALSE) -> #N/A | O63: =IF(E63=0,200,((G63*60)+H63)/N63) -> 200 | P63: =RANK(O63,$O$62:$O$76,1) -> 1
A64: 3 | F64: =E64-$N$1 -> -3 | G64: =IF(E64>0,INT(E64)-$N$1,0) -> 0 | H64: =IF(E64>0,(F64-G64)*100,0) -> 0 | J64: =VLOOKUP(C64,Hcaps!$A$2:$D$63,4,FALSE) -> #N/A | K64: =IF(G64=0,20000,((G64*60)+H64)*1000/J64) -> 20000 | L64: =RANK(K64,$K$62:$K$76,1) -> 1 | N64: =VLOOKUP(C64,Hcaps!$A$2:$D$31,4,FALSE) -> #N/A | O64: =IF(E64=0,200,((G64*60)+H64)/N64) -> 200 | P64: =RANK(O64,$O$62:$O$76,1) -> 1
A65: 4 | F65: =E65-$N$1 -> -3 | G65: =IF(E65>0,INT(E65)-$N$1,0) -> 0 | H65: =IF(E65>0,(F65-G65)*100,0) -> 0 | J65: =VLOOKUP(C65,Hcaps!$A$2:$D$63,4,FALSE) -> #N/A | K65: =IF(G65=0,20000,((G65*60)+H65)*1000/J65) -> 20000 | L65: =RANK(K65,$K$62:$K$76,1) -> 1 | N65: =VLOOKUP(C65,Hcaps!$A$2:$D$31,4,FALSE) -> #N/A | O65: =IF(E65=0,200,((G65*60)+H65)/N65) -> 200 | P65: =RANK(O65,$O$62:$O$76,1) -> 1
A66: 5 | F66: =E66-$N$1 -> -3 | G66: =IF(E66>0,INT(E66)-$N$1,0) -> 0 | H66: =IF(E66>0,(F66-G66)*100,0) -> 0 | J66: =VLOOKUP(C66,Hcaps!$A$2:$D$63,4,FALSE) -> #N/A | K66: =IF(G66=0,20000,((G66*60)+H66)*1000/J66) -> 20000 | L66: =RANK(K66,$K$62:$K$76,1) -> 1 | N66: =VLOOKUP(C66,Hcaps!$A$2:$D$31,4,FALSE) -> #N/A | O66: =IF(E66=0,200,((G66*60)+H66)/N66) -> 200 | P66: =RANK(O66,$O$62:$O$76,1) -> 1
A67: 6 | F67: =E67-$N$1 -> -3 | G67: =IF(E67>0,INT(E67)-$N$1,0) -> 0 | H67: =IF(E67>0,(F67-G67)*100,0) -> 0 | J67: =VLOOKUP(C67,Hcaps!$A$2:$D$63,4,FALSE) -> #N/A | K67: =IF(G67=0,20000,((G67*60)+H67)*1000/J67) -> 20000 | L67: =RANK(K67,$K$62:$K$76,1) -> 1 | N67: =VLOOKUP(C67,Hcaps!$A$2:$D$31,4,FALSE) -> #N/A | O67: =IF(E67=0,200,((G67*60)+H67)/N67) -> 200 | P67: =RANK(O67,$O$62:$O$76,1) -> 1
A68: 7 | F68: =E68-$N$1 -> -3 | G68: =IF(E68>0,INT(E68)-$N$1,0) -> 0 | H68: =IF(E68>0,(F68-G68)*100,0) -> 0 | J68: =VLOOKUP(C68,Hcaps!$A$2:$D$63,4,FALSE) -> #N/A | K68: =IF(G68=0,20000,((G68*60)+H68)*1000/J68) -> 20000 | L68: =RANK(K68,$K$62:$K$76,1) -> 1 | N68: =VLOOKUP(C68,Hcaps!$A$2:$D$31,4,FALSE) -> #N/A | O68: =IF(E68=0,200,((G68*60)+H68)/N68) -> 200 | P68: =RANK(O68,$O$62:$O$76,1) -> 1
A69: 8 | F69: =E69-$N$1 -> -3 | G69: =IF(E69>0,INT(E69)-$N$1,0) -> 0 | H69: =IF(E69>0,(F69-G69)*100,0) -> 0 | J69: =VLOOKUP(C69,Hcaps!$A$2:$D$63,4,FALSE) -> #N/A | K69: =IF(G69=0,20000,((G69*60)+H69)*1000/J69) -> 20000 | L69: =RANK(K69,$K$62:$K$76,1) -> 1 | N69: =VLOOKUP(C69,Hcaps!$A$2:$D$31,4,FALSE) -> #N/A | O69: =IF(E69=0,200,((G69*60)+H69)/N69) -> 200 | P69: =RANK(O69,$O$62:$O$76,1) -> 1
A70: 9 | F70: =E70-$N$1 -> -3 | G70: =IF(E70>0,INT(E70)-$N$1,0) -> 0 | H70: =IF(E70>0,(F70-G70)*100,0) -> 0 | J70: =VLOOKUP(C70,Hcaps!$A$2:$D$63,4,FALSE) -> #N/A | K70: =IF(G70=0,20000,((G70*60)+H70)*1000/J70) -> 20000 | L70: =RANK(K70,$K$62:$K$76,1) -> 1 | N70: =VLOOKUP(C70,Hcaps!$A$2:$D$31,4,FALSE) -> #N/A | O70: =IF(E70=0,200,((G70*60)+H70)/N70) -> 200 | P70: =RANK(O70,$O$62:$O$76,1) -> 1
A71: 10 | F71: =E71-$N$1 -> -3 | G71: =IF(E71>0,INT(E71)-$N$1,0) -> 0 | H71: =IF(E71>0,(F71-G71)*100,0) -> 0 | J71: =VLOOKUP(C71,Hcaps!$A$2:$D$63,4,FALSE) -> #N/A | K71: =IF(G71=0,20000,((G71*60)+H71)*1000/J71) -> 20000 | L71: =RANK(K71,$K$62:$K$76,1) -> 1 | N71: =VLOOKUP(C71,Hcaps!$A$2:$D$31,4,FALSE) -> #N/A | O71: =IF(E71=0,200,((G71*60)+H71)/N71) -> 200 | P71: =RANK(O71,$O$62:$O$76,1) -> 1
A72: 11 | F72: =E72-$N$1 -> -3 | G72: =IF(E72>0,INT(E72)-$N$1,0) -> 0 | H72: =IF(E72>0,(F72-G72)*100,0) -> 0 | J72: =VLOOKUP(C72,Hcaps!$A$2:$D$63,4,FALSE) -> #N/A | K72: =IF(G72=0,20000,((G72*60)+H72)*1000/J72) -> 20000 | L72: =RANK(K72,$K$62:$K$76,1) -> 1 | N72: =VLOOKUP(C72,Hcaps!$A$2:$D$31,4,FALSE) -> #N/A | O72: =IF(E72=0,200,((G72*60)+H72)/N72) -> 200 | P72: =RANK(O72,$O$62:$O$76,1) -> 1
A73: 12 | F73: =E73-$N$1 -> -3 | G73: =IF(E73>0,INT(E73)-$N$1,0) -> 0 | H73: =IF(E73>0,(F73-G73)*100,0) -> 0 | J73: =VLOOKUP(C73,Hcaps!$A$2:$D$63,4,FALSE) -> #N/A | K73: =IF(G73=0,20000,((G73*60)+H73)*1000/J73) -> 20000 | L73: =RANK(K73,$K$62:$K$76,1) -> 1 | N73: =VLOOKUP(C73,Hcaps!$A$2:$D$31,4,FALSE) -> #N/A | O73: =IF(E73=0,200,((G73*60)+H73)/N73) -> 200 | P73: =RANK(O73,$O$62:$O$76,1) -> 1
... A76: 15 | F76: =E76-$N$1 -> -3 | G76: =IF(E76>0,INT(E76)-$N$1,0) -> 0 | H76: =IF(E76>0,(F76-G76)*100,0) -> 0 | J76: =VLOOKUP(C76,Hcaps!$A$2:$D$63,4,FALSE) -> #N/A | K76: =IF(G76=0,20000,((G76*60)+H76)*1000/J76) -> 20000 | L76: =RANK(K76,$K$62:$K$76,1) -> 1 | N76: =VLOOKUP(C76,Hcaps!$A$2:$D$31,4,FALSE) -> #N/A | O76: =IF(E76=0,200,((G76*60)+H76)/N76) -> 200 | P76: =RANK(O76,$O$62:$O$76,1) -> 1
B78: Race Five | C78: Make Entries only in colour cells | E78: Finish Time | F78: Elapsed Time | G78: Elapsed Minutes | H78: Elapsed Seconds | J78: Handicap | K78: Dinghy Corr time | L78: Dinghy position | N78: Handicap | O78: KB & Cat Corr Time | P78: KB & Cat Position
A79: # | B79: Skipper | C79: Boat
A80: 1 | F80: =E80-$N$1 -> -3 | G80: =IF(E80>0,INT(E80)-$N$1,0) -> 0 | H80: =IF(E80>0,(F80-G80)*100,0) -> 0 | J80: =VLOOKUP(C80,Hcaps!$A$2:$D$63,4,FALSE) -> #N/A | K80: =IF(G80=0,20000,((G80*60)+H80)*1000/J80) -> 20000 | L80: =RANK(K80,$K$80:$K$94,1) -> 1 | N80: =VLOOKUP(C80,Hcaps!$A$2:$D$31,4,FALSE) -> #N/A | O80: =IF(E80=0,200,((G80*60)+H80)/N80) -> 200 | P80: =RANK(O80,$O$80:$O$94,1) -> 1
A81: 2 | F81: =E81-$N$1 -> -3 | G81: =IF(E81>0,INT(E81)-$N$1,0) -> 0 | H81: =IF(E81>0,(F81-G81)*100,0) -> 0 | J81: =VLOOKUP(C81,Hcaps!$A$2:$D$63,4,FALSE) -> #N/A | K81: =IF(G81=0,20000,((G81*60)+H81)*1000/J81) -> 20000 | L81: =RANK(K81,$K$80:$K$94,1) -> 1 | N81: =VLOOKUP(C81,Hcaps!$A$2:$D$31,4,FALSE) -> #N/A | O81: =IF(E81=0,200,((G81*60)+H81)/N81) -> 200 | P81: =RANK(O81,$O$80:$O$94,1) -> 1
A82: 3 | F82: =E82-$N$1 -> -3 | G82: =IF(E82>0,INT(E82)-$N$1,0) -> 0 | H82: =IF(E82>0,(F82-G82)*100,0) -> 0 | J82: =VLOOKUP(C82,Hcaps!$A$2:$D$63,4,FALSE) -> #N/A | K82: =IF(G82=0,20000,((G82*60)+H82)*1000/J82) -> 20000 | L82: =RANK(K82,$K$80:$K$94,1) -> 1 | N82: =VLOOKUP(C82,Hcaps!$A$2:$D$31,4,FALSE) -> #N/A | O82: =IF(E82=0,200,((G82*60)+H82)/N82) -> 200 | P82: =RANK(O82,$O$80:$O$94,1) -> 1
A83: 4 | F83: =E83-$N$1 -> -3 | G83: =IF(E83>0,INT(E83)-$N$1,0) -> 0 | H83: =IF(E83>0,(F83-G83)*100,0) -> 0 | J83: =VLOOKUP(C83,Hcaps!$A$2:$D$63,4,FALSE) -> #N/A | K83: =IF(G83=0,20000,((G83*60)+H83)*1000/J83) -> 20000 | L83: =RANK(K83,$K$80:$K$94,1) -> 1 | N83: =VLOOKUP(C83,Hcaps!$A$2:$D$31,4,FALSE) -> #N/A | O83: =IF(E83=0,200,((G83*60)+H83)/N83) -> 200 | P83: =RANK(O83,$O$80:$O$94,1) -> 1
A84: 5 | F84: =E84-$N$1 -> -3 | G84: =IF(E84>0,INT(E84)-$N$1,0) -> 0 | H84: =IF(E84>0,(F84-G84)*100,0) -> 0 | J84: =VLOOKUP(C84,Hcaps!$A$2:$D$63,4,FALSE) -> #N/A | K84: =IF(G84=0,20000,((G84*60)+H84)*1000/J84) -> 20000 | L84: =RANK(K84,$K$80:$K$94,1) -> 1 | N84: =VLOOKUP(C84,Hcaps!$A$2:$D$31,4,FALSE) -> #N/A | O84: =IF(E84=0,200,((G84*60)+H84)/N84) -> 200 | P84: =RANK(O84,$O$80:$O$94,1) -> 1
A85: 6 | F85: =E85-$N$1 -> -3 | G85: =IF(E85>0,INT(E85)-$N$1,0) -> 0 | H85: =IF(E85>0,(F85-G85)*100,0) -> 0 | J85: =VLOOKUP(C85,Hcaps!$A$2:$D$63,4,FALSE) -> #N/A | K85: =IF(G85=0,20000,((G85*60)+H85)*1000/J85) -> 20000 | L85: =RANK(K85,$K$80:$K$94,1) -> 1 | N85: =VLOOKUP(C85,Hcaps!$A$2:$D$31,4,FALSE) -> #N/A | O85: =IF(E85=0,200,((G85*60)+H85)/N85) -> 200 | P85: =RANK(O85,$O$80:$O$94,1) -> 1
A86: 7 | F86: =E86-$N$1 -> -3 | G86: =IF(E86>0,INT(E86)-$N$1,0) -> 0 | H86: =IF(E86>0,(F86-G86)*100,0) -> 0 | J86: =VLOOKUP(C86,Hcaps!$A$2:$D$63,4,FALSE) -> #N/A | K86: =IF(G86=0,20000,((G86*60)+H86)*1000/J86) -> 20000 | L86: =RANK(K86,$K$80:$K$94,1) -> 1 | N86: =VLOOKUP(C86,Hcaps!$A$2:$D$31,4,FALSE) -> #N/A | O86: =IF(E86=0,200,((G86*60)+H86)/N86) -> 200 | P86: =RANK(O86,$O$80:$O$94,1) -> 1
A87: 8 | F87: =E87-$N$1 -> -3 | G87: =IF(E87>0,INT(E87)-$N$1,0) -> 0 | H87: =IF(E87>0,(F87-G87)*100,0) -> 0 | J87: =VLOOKUP(C87,Hcaps!$A$2:$D$63,4,FALSE) -> #N/A | K87: =IF(G87=0,20000,((G87*60)+H87)*1000/J87) -> 20000 | L87: =RANK(K87,$K$80:$K$94,1) -> 1 | N87: =VLOOKUP(C87,Hcaps!$A$2:$D$31,4,FALSE) -> #N/A | O87: =IF(E87=0,200,((G87*60)+H87)/N87) -> 200 | P87: =RANK(O87,$O$80:$O$94,1) -> 1
A88: 9 | F88: =E88-$N$1 -> -3 | G88: =IF(E88>0,INT(E88)-$N$1,0) -> 0 | H88: =IF(E88>0,(F88-G88)*100,0) -> 0 | J88: =VLOOKUP(C88,Hcaps!$A$2:$D$63,4,FALSE) -> #N/A | K88: =IF(G88=0,20000,((G88*60)+H88)*1000/J88) -> 20000 | L88: =RANK(K88,$K$80:$K$94,1) -> 1 | N88: =VLOOKUP(C88,Hcaps!$A$2:$D$31,4,FALSE) -> #N/A | O88: =IF(E88=0,200,((G88*60)+H88)/N88) -> 200 | P88: =RANK(O88,$O$80:$O$94,1) -> 1
A89: 10 | F89: =E89-$N$1 -> -3 | G89: =IF(E89>0,INT(E89)-$N$1,0) -> 0 | H89: =IF(E89>0,(F89-G89)*100,0) -> 0 | J89: =VLOOKUP(C89,Hcaps!$A$2:$D$63,4,FALSE) -> #N/A | K89: =IF(G89=0,20000,((G89*60)+H89)*1000/J89) -> 20000 | L89: =RANK(K89,$K$80:$K$94,1) -> 1 | N89: =VLOOKUP(C89,Hcaps!$A$2:$D$31,4,FALSE) -> #N/A | O89: =IF(E89=0,200,((G89*60)+H89)/N89) -> 200 | P89: =RANK(O89,$O$80:$O$94,1) -> 1
A90: 11 | F90: =E90-$N$1 -> -3 | G90: =IF(E90>0,INT(E90)-$N$1,0) -> 0 | H90: =IF(E90>0,(F90-G90)*100,0) -> 0 | J90: =VLOOKUP(C90,Hcaps!$A$2:$D$63,4,FALSE) -> #N/A | K90: =IF(G90=0,20000,((G90*60)+H90)*1000/J90) -> 20000 | L90: =RANK(K90,$K$80:$K$94,1) -> 1 | N90: =VLOOKUP(C90,Hcaps!$A$2:$D$31,4,FALSE) -> #N/A | O90: =IF(E90=0,200,((G90*60)+H90)/N90) -> 200 | P90: =RANK(O90,$O$80:$O$94,1) -> 1
A91: 12 | F91: =E91-$N$1 -> -3 | G91: =IF(E91>0,INT(E91)-$N$1,0) -> 0 | H91: =IF(E91>0,(F91-G91)*100,0) -> 0 | J91: =VLOOKUP(C91,Hcaps!$A$2:$D$63,4,FALSE) -> #N/A | K91: =IF(G91=0,20000,((G91*60)+H91)*1000/J91) -> 20000 | L91: =RANK(K91,$K$80:$K$94,1) -> 1 | N91: =VLOOKUP(C91,Hcaps!$A$2:$D$31,4,FALSE) -> #N/A | O91: =IF(E91=0,200,((G91*60)+H91)/N91) -> 200 | P91: =RANK(O91,$O$80:$O$94,1) -> 1
... A94: 15 | F94: =E94-$N$1 -> -3 | G94: =IF(E94>0,INT(E94)-$N$1,0) -> 0 | H94: =IF(E94>0,(F94-G94)*100,0) -> 0 | J94: =VLOOKUP(C94,Hcaps!$A$2:$D$63,4,FALSE) -> #N/A | K94: =IF(G94=0,20000,((G94*60)+H94)*1000/J94) -> 20000 | L94: =RANK(K94,$K$80:$K$94,1) -> 1 | N94: =VLOOKUP(C94,Hcaps!$A$2:$D$31,4,FALSE) -> #N/A | O94: =IF(E94=0,200,((G94*60)+H94)/N94) -> 200 | P94: =RANK(O94,$O$80:$O$94,1) -> 1

Sheet SimplDinghyResults
A1: Race Results for
A4: Skipper | B4: Position
A5: RACE 1
A6: ='DATA ENTRY'!B8 -> 0 | B6: ='DATA ENTRY'!L8 -> 1
A7: ='DATA ENTRY'!B9 -> 0 | B7: ='DATA ENTRY'!L9 -> 1
A8: ='DATA ENTRY'!B10 -> 0 | B8: ='DATA ENTRY'!L10 -> 1
A9: ='DATA ENTRY'!B11 -> 0 | B9: ='DATA ENTRY'!L11 -> 1
A10: ='DATA ENTRY'!B12 -> 0 | B10: ='DATA ENTRY'!L12 -> 1
A11: ='DATA ENTRY'!B13 -> 0 | B11: ='DATA ENTRY'!L13 -> 1
A12: ='DATA ENTRY'!B14 -> 0 | B12: ='DATA ENTRY'!L14 -> 1
A13: ='DATA ENTRY'!B15 -> 0 | B13: ='DATA ENTRY'!L15 -> 1
A14: ='DATA ENTRY'!B16 -> 0 | B14: ='DATA ENTRY'!L16 -> 1
A15: ='DATA ENTRY'!B17 -> 0 | B15: ='DATA ENTRY'!L17 -> 1
A16: ='DATA ENTRY'!B18 -> 0 | B16: ='DATA ENTRY'!L18 -> 1
A17: ='DATA ENTRY'!B19 -> 0 | B17: ='DATA ENTRY'!L19 -> 1
A18: ='DATA ENTRY'!B20 -> 0 | B18: ='DATA ENTRY'!L20 -> 1
A20: RACE 2
A21: ='DATA ENTRY'!B26 -> 0 | B21: ='DATA ENTRY'!L26 -> 1
A22: ='DATA ENTRY'!B27 -> 0 | B22: ='DATA ENTRY'!L27 -> 1
A23: ='DATA ENTRY'!B28 -> 0 | B23: ='DATA ENTRY'!L28 -> 1
A24: ='DATA ENTRY'!B29 -> 0 | B24: ='DATA ENTRY'!L29 -> 1
A25: ='DATA ENTRY'!B30 -> 0 | B25: ='DATA ENTRY'!L30 -> 1
A26: ='DATA ENTRY'!B31 -> 0 | B26: ='DATA ENTRY'!L31 -> 1
A27: ='DATA ENTRY'!B32 -> 0 | B27: ='DATA ENTRY'!L32 -> 1
A28: ='DATA ENTRY'!B33 -> 0 | B28: ='DATA ENTRY'!L33 -> 1
A29: ='DATA ENTRY'!B34 -> 0 | B29: ='DATA ENTRY'!L34 -> 1
A30: ='DATA ENTRY'!B35 -> 0 | B30: ='DATA ENTRY'!L35 -> 1
A31: ='DATA ENTRY'!B36 -> 0 | B31: ='DATA ENTRY'!L36 -> 1
A32: ='DATA ENTRY'!B37 -> 0 | B32: ='DATA ENTRY'!L37 -> 1
A33: ='DATA ENTRY'!B38 -> 0 | B33: ='DATA ENTRY'!L38 -> 1
A35: RACE 3
A36: ='DATA ENTRY'!B44 -> 0 | B36: ='DATA ENTRY'!L44 -> 1
A37: ='DATA ENTRY'!B45 -> 0 | B37: ='DATA ENTRY'!L45 -> 1
A38: ='DATA ENTRY'!B46 -> 0 | B38: ='DATA ENTRY'!L46 -> 1
A39: ='DATA ENTRY'!B47 -> 0 | B39: ='DATA ENTRY'!L47 -> 1
A40: ='DATA ENTRY'!B48 -> 0 | B40: ='DATA ENTRY'!L48 -> 1
A41: ='DATA ENTRY'!B49 -> 0 | B41: ='DATA ENTRY'!L49 -> 1
A42: ='DATA ENTRY'!B50 -> 0 | B42: ='DATA ENTRY'!L50 -> 1
A43: ='DATA ENTRY'!B51 -> 0 | B43: ='DATA ENTRY'!L51 -> 1
A44: ='DATA ENTRY'!B52 -> 0 | B44: ='DATA ENTRY'!L52 -> 1
A45: ='DATA ENTRY'!B53 -> 0 | B45: ='DATA ENTRY'!L53 -> 1
A46: ='DATA ENTRY'!B54 -> 0 | B46: ='DATA ENTRY'!L54 -> 1
A47: ='DATA ENTRY'!B55 -> 0 | B47: ='DATA ENTRY'!L55 -> 1
A48: ='DATA ENTRY'!B56 -> 0 | B48: ='DATA ENTRY'!L56 -> 1
A50: RACE 4
A51: ='DATA ENTRY'!B62 -> 0 | B51: ='DATA ENTRY'!L62 -> 1
A52: ='DATA ENTRY'!B63 -> 0 | B52: ='DATA ENTRY'!L63 -> 1
A53: ='DATA ENTRY'!B64 -> 0 | B53: ='DATA ENTRY'!L64 -> 1
A54: ='DATA ENTRY'!B65 -> 0 | B54: ='DATA ENTRY'!L65 -> 1
A55: ='DATA ENTRY'!B66 -> 0 | B55: ='DATA ENTRY'!L66 -> 1
A56: ='DATA ENTRY'!B67 -> 0 | B56: ='DATA ENTRY'!L67 -> 1
A57: ='DATA ENTRY'!B68 -> 0 | B57: ='DATA ENTRY'!L68 -> 1
A58: ='DATA ENTRY'!B69 -> 0 | B58: ='DATA ENTRY'!L69 -> 1
A59: ='DATA ENTRY'!B70 -> 0 | B59: ='DATA ENTRY'!L70 -> 1
A60: ='DATA ENTRY'!B71 -> 0 | B60: ='DATA ENTRY'!L71 -> 1
A61: ='DATA ENTRY'!B72 -> 0 | B61: ='DATA ENTRY'!L72 -> 1
A62: ='DATA ENTRY'!B73 -> 0 | B62: ='DATA ENTRY'!L73 -> 1
A63: ='DATA ENTRY'!B74 -> 0 | B63: ='DATA ENTRY'!L74 -> 1
A65: RACE 5
A66: ='DATA ENTRY'!B80 -> 0 | B66: ='DATA ENTRY'!L80 -> 1
A67: ='DATA ENTRY'!B81 -> 0 | B67: ='DATA ENTRY'!L81 -> 1
A68: ='DATA ENTRY'!B82 -> 0 | B68: ='DATA ENTRY'!L82 -> 1
A69: ='DATA ENTRY'!B83 -> 0 | B69: ='DATA ENTRY'!L83 -> 1
A70: ='DATA ENTRY'!B84 -> 0 | B70: ='DATA ENTRY'!L84 -> 1
A71: ='DATA ENTRY'!B85 -> 0 | B71: ='DATA ENTRY'!L85 -> 1
A72: ='DATA ENTRY'!B86 -> 0 | B72: ='DATA ENTRY'!L86 -> 1
A73: ='DATA ENTRY'!B87 -> 0 | B73: ='DATA ENTRY'!L87 -> 1
A74: ='DATA ENTRY'!B88 -> 0 | B74: ='DATA ENTRY'!L88 -> 1
A75: ='DATA ENTRY'!B89 -> 0 | B75: ='DATA ENTRY'!L89 -> 1
A76: ='DATA ENTRY'!B90 -> 0 | B76: ='DATA ENTRY'!L90 -> 1
A77: ='DATA ENTRY'!B91 -> 0 | B77: ='DATA ENTRY'!L91 -> 1
A78: ='DATA ENTRY'!B92 -> 0 | B78: ='DATA ENTRY'!L92 -> 1

Sheet SimpleKBResults
A1: Race Results for | B1: Keelboats
A4: Skipper | B4: Position
A5: RACE 1
A6: ='DATA ENTRY'!B8 -> 0 | B6: ='DATA ENTRY'!P8 -> 1
A7: ='DATA ENTRY'!B9 -> 0 | B7: ='DATA ENTRY'!P9 -> 1
A8: ='DATA ENTRY'!B10 -> 0 | B8: ='DATA ENTRY'!P10 -> 1
A9: ='DATA ENTRY'!B11 -> 0 | B9: ='DATA ENTRY'!P11 -> 1
A10: ='DATA ENTRY'!B12 -> 0 | B10: ='DATA ENTRY'!P12 -> 1
A11: ='DATA ENTRY'!B13 -> 0 | B11: ='DATA ENTRY'!P13 -> 1
A12: ='DATA ENTRY'!B14 -> 0 | B12: ='DATA ENTRY'!P14 -> 1
A13: ='DATA ENTRY'!B15 -> 0 | B13: ='DATA ENTRY'!P15 -> 1
A14: ='DATA ENTRY'!B16 -> 0 | B14: ='DATA ENTRY'!P16 -> 1
A15: ='DATA ENTRY'!B17 -> 0 | B15: ='DATA ENTRY'!P17 -> 1
A16: ='DATA ENTRY'!B18 -> 0 | B16: ='DATA ENTRY'!P18 -> 1
A17: ='DATA ENTRY'!B19 -> 0 | B17: ='DATA ENTRY'!P19 -> 1
A18: ='DATA ENTRY'!B20 -> 0 | B18: ='DATA ENTRY'!P20 -> 1
A20: RACE 2
A21: ='DATA ENTRY'!B26 -> 0 | B21: ='DATA ENTRY'!P26 -> 1
A22: ='DATA ENTRY'!B27 -> 0 | B22: ='DATA ENTRY'!P27 -> 1
A23: ='DATA ENTRY'!B28 -> 0 | B23: ='DATA ENTRY'!P28 -> 1
A24: ='DATA ENTRY'!B29 -> 0 | B24: ='DATA ENTRY'!P29 -> 1
A25: ='DATA ENTRY'!B30 -> 0 | B25: ='DATA ENTRY'!P30 -> 1
A26: ='DATA ENTRY'!B31 -> 0 | B26: ='DATA ENTRY'!P31 -> 1
A27: ='DATA ENTRY'!B32 -> 0 | B27: ='DATA ENTRY'!P32 -> 1
A28: ='DATA ENTRY'!B33 -> 0 | B28: ='DATA ENTRY'!P33 -> 1
A29: ='DATA ENTRY'!B34 -> 0 | B29: ='DATA ENTRY'!P34 -> 1
A30: ='DATA ENTRY'!B35 -> 0 | B30: ='DATA ENTRY'!P35 -> 1
A31: ='DATA ENTRY'!B36 -> 0 | B31: ='DATA ENTRY'!P36 -> 1
A32: ='DATA ENTRY'!B37 -> 0 | B32: ='DATA ENTRY'!P37 -> 1
A33: ='DATA ENTRY'!B38 -> 0 | B33: ='DATA ENTRY'!P38 -> 1
A35: RACE 3
A36: ='DATA ENTRY'!B44 -> 0 | B36: ='DATA ENTRY'!P44 -> 1
A37: ='DATA ENTRY'!B45 -> 0 | B37: ='DATA ENTRY'!P45 -> 1
A38: ='DATA ENTRY'!B46 -> 0 | B38: ='DATA ENTRY'!P46 -> 1
A39: ='DATA ENTRY'!B47 -> 0 | B39: ='DATA ENTRY'!P47 -> 1
A40: ='DATA ENTRY'!B48 -> 0 | B40: ='DATA ENTRY'!P48 -> 1
A41: ='DATA ENTRY'!B49 -> 0 | B41: ='DATA ENTRY'!P49 -> 1
A42: ='DATA ENTRY'!B50 -> 0 | B42: ='DATA ENTRY'!P50 -> 1
A43: ='DATA ENTRY'!B51 -> 0 | B43: ='DATA ENTRY'!P51 -> 1
A44: ='DATA ENTRY'!B52 -> 0 | B44: ='DATA ENTRY'!P52 -> 1
A45: ='DATA ENTRY'!B53 -> 0 | B45: ='DATA ENTRY'!P53 -> 1
A46: ='DATA ENTRY'!B54 -> 0 | B46: ='DATA ENTRY'!P54 -> 1
A47: ='DATA ENTRY'!B55 -> 0 | B47: ='DATA ENTRY'!P55 -> 1
A48: ='DATA ENTRY'!B56 -> 0 | B48: ='DATA ENTRY'!P56 -> 1
A50: RACE 4
A51: ='DATA ENTRY'!B62 -> 0 | B51: ='DATA ENTRY'!P62 -> 1
A52: ='DATA ENTRY'!B63 -> 0 | B52: ='DATA ENTRY'!P63 -> 1
A53: ='DATA ENTRY'!B64 -> 0 | B53: ='DATA ENTRY'!P64 -> 1
A54: ='DATA ENTRY'!B65 -> 0 | B54: ='DATA ENTRY'!P65 -> 1
A55: ='DATA ENTRY'!B66 -> 0 | B55: ='DATA ENTRY'!P66 -> 1
A56: ='DATA ENTRY'!B67 -> 0 | B56: ='DATA ENTRY'!P67 -> 1
A57: ='DATA ENTRY'!B68 -> 0 | B57: ='DATA ENTRY'!P68 -> 1
A58: ='DATA ENTRY'!B69 -> 0 | B58: ='DATA ENTRY'!P69 -> 1
A59: ='DATA ENTRY'!B70 -> 0 | B59: ='DATA ENTRY'!P70 -> 1
A60: ='DATA ENTRY'!B71 -> 0 | B60: ='DATA ENTRY'!P71 -> 1
A61: ='DATA ENTRY'!B72 -> 0 | B61: ='DATA ENTRY'!P72 -> 1
A62: ='DATA ENTRY'!B73 -> 0 | B62: ='DATA ENTRY'!P73 -> 1
A63: ='DATA ENTRY'!B74 -> 0 | B63: ='DATA ENTRY'!P74 -> 1
A65: RACE 5
A66: ='DATA ENTRY'!B80 -> 0 | B66: ='DATA ENTRY'!P80 -> 1
A67: ='DATA ENTRY'!B81 -> 0 | B67: ='DATA ENTRY'!P81 -> 1
A68: ='DATA ENTRY'!B82 -> 0 | B68: ='DATA ENTRY'!P82 -> 1
A69: ='DATA ENTRY'!B83 -> 0 | B69: ='DATA ENTRY'!P83 -> 1
A70: ='DATA ENTRY'!B84 -> 0 | B70: ='DATA ENTRY'!P84 -> 1
A71: ='DATA ENTRY'!B85 -> 0 | B71: ='DATA ENTRY'!P85 -> 1
A72: ='DATA ENTRY'!B86 -> 0 | B72: ='DATA ENTRY'!P86 -> 1
A73: ='DATA ENTRY'!B87 -> 0 | B73: ='DATA ENTRY'!P87 -> 1
A74: ='DATA ENTRY'!B88 -> 0 | B74: ='DATA ENTRY'!P88 -> 1
A75: ='DATA ENTRY'!B89 -> 0 | B75: ='DATA ENTRY'!P89 -> 1
A76: ='DATA ENTRY'!B90 -> 0 | B76: ='DATA ENTRY'!P90 -> 1
A77: ='DATA ENTRY'!B91 -> 0 | B77: ='DATA ENTRY'!P91 -> 1
A78: ='DATA ENTRY'!B92 -> 0 | B78: ='DATA ENTRY'!P92 -> 1

Sheet Skippers
A2: Al
A3: Anna
A4: B Kelly
A5: Ben
A6: Bennet Baker
A7: Claire
A8: Cole Baker
A9: Craig B
A10: Dave H
A11: Dave L
A12: Evan
A13: Feavers
... A37: x

Sheet Hcaps
D1: RYA 2025 | N1: 2020 | O1: 25-20
A2: Tasar | D2: 1022 | G2: Notes: | N2: 1022 | O2: =D2-N2 -> 0
A3: Laser | D3: 1103 | H3: D-PN | I3: PHRF | J3: PHRF-NE | K3: USPHRF | N3: 1100 | O3: =D3-N3 -> 3
A4: Laser Radial & M | D4: 1156 | N4: 1147 | O4: =D4-N4 -> 9
A5: Laser 4.7 | D5: 1218 | G5: Macgregor 26 DB | H5: 92.6 | I5: 90.5 | K5: 213 | N5: 1208 | O5: =D5-N5 -> 10
A6: Laser >> | D6: 1100 | G6: Macgregor 26 | H6: 94.3 | I6: 92 | J6: 222 | K6: 222 | N6: 1085 | O6: =D6-N6 -> 15
A7: M16 Scow2p | D7: 1015 | G7: Macgregor 26 X | H7: 100 | I7: 93 | K7: 228 | N7: 1015 | O7: =D7-N7 -> 0
A8: MC Scow1p | D8: 1016 | G8: CS 22 SK | H8: 94 | I8: 98 | K8: 258 | N8: 1016 | O8: =D8-N8 -> 0
A9: 29er | D9: 900 | G9: Catalina 22 SK no spin (Skene) | H9: 96.3 | N9: 903 | O9: =D9-N9 -> -3
A10: Wayfarer | D10: 1107 | G10: Catalina 22 sk | H10: 94.7 | I10: 100 | J10: 276 | K10: 270 | N10: 1102 | O10: =D10-N10 -> 5
A11: 420 | D11: 1110
A12: 470 | B12: 86.6 | D12: 973 | G12: Montgomery 17 | H12: 104 | I12: 101.5 | K12: 279 | N12: 973 | O12: =D12-N12 -> 0
A13: Musto Skiff | D13: 830
A14: Bombardier | D14: 1143 | G14: (Oday) Mariner 19 cb | H14: 102.1 | K14: 279 | N14: 1143 | O14: =D14-N14 -> 0
A15: Zest | D15: 1260 | G15: Oday 19 | H15: 95.2 | N15: 1260 | O15: =D15-N15 -> 0
A16: Optimist | D16: 1631 | N16: 1642 | O16: =D16-N16 -> -11
A17: RS Vision | D17: 1150
D18: D-PN
A19: Hobie 18 | D19: 71.4
A20: Hobie 20 | D20: 65.5
A21: Hobie 16 | D21: 77
A22: CL 16 | D22: 96.3
A23: Albacore | D23: 912
A24: CS22 | D24: 94
A25: Catalina 22(Skene) | D25: 94.7
A26: Sirius 21 | D26: 96.7
A27: Macgregor 26x | D27: 100
A28: Macgregor 26DB | D28: 92.6
A29: Macgregor 26 | D29: 94.3
A30: Montgomery 17 | D30: 104
A31: Oday Mar 19 | D31: 102.1
A32: Sunfish Racing | B32: 99
A33: x420 | B33: 97.6
A34: xTanzer 22 | B34: 94.5 | C34: ?
A35: xByte | B35: 97.4 | C35: ?
A36: xCL 14 | B36: 101.2
A37: xEnterprise | B37: 92.8 | C37: ?
A38: xEurope Dinghy | B38: 92.8 | C38: ?
A39: xFinn | B39: 90.1
A40: xFireball | B40: 86
A41: xFlying Dutchman | B41: 80.2
A42: xFlying Junior | B42: 98.3 | C42: ?
A43: xHobie 12 | B43: 105.4
A44: xHobie 14 | B44: 86
A45: xHobie 16 | B45: 77
A46: xHobie 17 | B46: 74 | C46: ?
A47: xInvitation | B47: 99.4 | C47: ?
A48: xJY 15 | B48: 91.9 | C48: ?
A49: xLazy E | B49: 91.7
A50: xLightning | B50: 88 | C50: ?
A51: xMacgregor 22 | B51: 98.6 | C51: ?
A52: xMacgregor 24 | B52: 96 | C52: ?
A53: xMartin 14 | B53: 100 | C53: ?
A54: xMirror Dinghy | B54: 113.1 | C54: ?
A55: xSailfish | B55: 118.4
A56: xSea Spray 15 | B56: 79
C57: ?
A58: xTanzer 16 | B58: 97.1
A59: xWindmill | B59: 89.7
A60: xY-Flyer | B60: 88
A61: z1 | B61: 200
A62: z2 | B62: 200
A63: z3 | B63: 200
